BEGIN:VCALENDAR
VERSION:2.0
PRODID:-//Saskatoon Cardinals - ECPv6.15.17//NONSGML v1.0//EN
CALSCALE:GREGORIAN
METHOD:PUBLISH
X-WR-CALNAME:Saskatoon Cardinals
X-ORIGINAL-URL:https://saskatooncardinals.ca
X-WR-CALDESC:Events for Saskatoon Cardinals
REFRESH-INTERVAL;VALUE=DURATION:PT1H
X-Robots-Tag:noindex
X-PUBLISHED-TTL:PT1H
BEGIN:VTIMEZONE
TZID:America/Regina
BEGIN:STANDARD
TZOFFSETFROM:-0600
TZOFFSETTO:-0600
TZNAME:CST
DTSTART:20180101T000000
END:STANDARD
END:VTIMEZONE
BEGIN:VEVENT
DTSTART;TZID=America/Regina:20190413T080000
DTEND;TZID=America/Regina:20190413T120000
DTSTAMP:20260423T011206
CREATED:20190321T195807Z
LAST-MODIFIED:20190411T033827Z
UID:1902-1555142400-1555156800@saskatooncardinals.ca
SUMMARY:2019 Zone Tryouts - Session #3
DESCRIPTION:3rd day tryouts \nMosquito: 8:00am – 10:00am – evaluation times-1\nPeeWee: 10:00am-11:15am – Pee Wee Groups\nBantam: 11:15am-12:00pm – Bantam Tryout times \nRemember fees must be paid before your player can be evaluated. \nEvaluations are held at Gordie Howe Sports Complex in the Multi-Sport Indoor Athletic Performance and Training Center located at 1303 Ave P S.
URL:https://saskatooncardinals.ca/event/2019-zone-tryouts-session-3/
LOCATION:Gordie Howe Sports Complex\, 1303 Ave P S\, Saskatoon\, SK\, Canada
CATEGORIES:15U,Mosquito,Pee Wee
END:VEVENT
END:VCALENDAR