BEGIN:VCALENDAR
VERSION:2.0
PRODID:-//Saskatoon Cardinals - ECPv6.15.17//NONSGML v1.0//EN
CALSCALE:GREGORIAN
METHOD:PUBLISH
X-ORIGINAL-URL:https://saskatooncardinals.ca
X-WR-CALDESC:Events for Saskatoon Cardinals
REFRESH-INTERVAL;VALUE=DURATION:PT1H
X-Robots-Tag:noindex
X-PUBLISHED-TTL:PT1H
BEGIN:VTIMEZONE
TZID:America/Regina
BEGIN:STANDARD
TZOFFSETFROM:-0600
TZOFFSETTO:-0600
TZNAME:CST
DTSTART:20180101T000000
END:STANDARD
END:VTIMEZONE
BEGIN:VEVENT
DTSTART;TZID=America/Regina:20190401T180000
DTEND;TZID=America/Regina:20190401T220000
DTSTAMP:20260423T011301
CREATED:20190321T185441Z
LAST-MODIFIED:20190401T002702Z
UID:1897-1554141600-1554156000@saskatooncardinals.ca
SUMMARY:2019 Zone Tryouts - Session #1
DESCRIPTION:1st night tryouts \nMosquito: 6:00pm – 8:00pm – Click Here evaluation times\nPeeWee: 8:00pm-9:15pm – Click Here Pee Wee Groups Final\nBantam: 9:15pm-10:00pm – Bantam Groups \nRemember fees must be paid before your player can be evaluated.  Skills evaluation info. \nEvaluations are held at Gordie Howe Sports Complex in the Multi-Sport Indoor Athletic Performance and Training Center located at 1303 Ave P S. \nPlease be at the GHSC 15 minutes prior to your scheduled evaluation time. When you arrive\, you will get your evaluation number.
URL:https://saskatooncardinals.ca/event/2019-zone-tryouts-session-1/
LOCATION:Gordie Howe Sports Complex\, 1303 Ave P S\, Saskatoon\, SK\, Canada
CATEGORIES:15U,Mosquito,Pee Wee
END:VEVENT
END:VCALENDAR