BEGIN:VCALENDAR
VERSION:2.0
PRODID:-//Saskatoon Cardinals - ECPv6.15.17//NONSGML v1.0//EN
CALSCALE:GREGORIAN
METHOD:PUBLISH
X-WR-CALNAME:Saskatoon Cardinals
X-ORIGINAL-URL:https://saskatooncardinals.ca
X-WR-CALDESC:Events for Saskatoon Cardinals
REFRESH-INTERVAL;VALUE=DURATION:PT1H
X-Robots-Tag:noindex
X-PUBLISHED-TTL:PT1H
BEGIN:VTIMEZONE
TZID:America/Regina
BEGIN:STANDARD
TZOFFSETFROM:-0600
TZOFFSETTO:-0600
TZNAME:CST
DTSTART:20180101T000000
END:STANDARD
END:VTIMEZONE
BEGIN:VEVENT
DTSTART;TZID=America/Regina:20190330T120000
DTEND;TZID=America/Regina:20190330T150000
DTSTAMP:20260423T011136
CREATED:20190321T235831Z
LAST-MODIFIED:20190321T235925Z
UID:1908-1553947200-1553958000@saskatooncardinals.ca
SUMMARY:Cardinals Knock the Rust Off Day
DESCRIPTION:The Cardinals Zone is offering an opportunity to knock the rust off your baseball skills.  You are invited to come to the new Gordie Howe Sports Complex on Saturday\, March 30th. \n12:00-1:30 pm – Mosquito\n1:30-3:00 pm – Peewee/Bantam
URL:https://saskatooncardinals.ca/event/cardinals-knock-the-rust-off-day/
LOCATION:Gordie Howe Sports Complex\, 1303 Ave P S\, Saskatoon\, SK\, Canada
CATEGORIES:15U,Mosquito,Pee Wee
END:VEVENT
END:VCALENDAR