BEGIN:VCALENDAR
VERSION:2.0
PRODID:-//Saskatoon Cardinals - ECPv6.15.17//NONSGML v1.0//EN
CALSCALE:GREGORIAN
METHOD:PUBLISH
X-WR-CALNAME:Saskatoon Cardinals
X-ORIGINAL-URL:https://saskatooncardinals.ca
X-WR-CALDESC:Events for Saskatoon Cardinals
REFRESH-INTERVAL;VALUE=DURATION:PT1H
X-Robots-Tag:noindex
X-PUBLISHED-TTL:PT1H
BEGIN:VTIMEZONE
TZID:America/Regina
BEGIN:STANDARD
TZOFFSETFROM:-0600
TZOFFSETTO:-0600
TZNAME:CST
DTSTART:20170101T000000
END:STANDARD
END:VTIMEZONE
BEGIN:VEVENT
DTSTART;TZID=America/Regina:20180318T180000
DTEND;TZID=America/Regina:20180318T220000
DTSTAMP:20260424T014128
CREATED:20180130T032417Z
LAST-MODIFIED:20180210T195029Z
UID:1654-1521396000-1521410400@saskatooncardinals.ca
SUMMARY:Cardinals Dropins
DESCRIPTION:An opportunity to knock some rust off before tryouts begin! \nThe date is fixed but the time is subject to change.
URL:https://saskatooncardinals.ca/event/cardinals-dropins-2/
LOCATION:Going Yard Training Center\, 1902 Alberta Ave\, Saskatoon\, SK\, S7K 1R9\, Canada
CATEGORIES:15U,Mosquito,Pee Wee
END:VEVENT
BEGIN:VEVENT
DTSTART;TZID=America/Regina:20180319T170000
DTEND;TZID=America/Regina:20180319T213000
DTSTAMP:20260424T014128
CREATED:20180210T195748Z
LAST-MODIFIED:20180319T004806Z
UID:1670-1521478800-1521495000@saskatooncardinals.ca
SUMMARY:Zone Tryouts #1
DESCRIPTION:1st night tryouts \nMosquito: 5:00pm – 7:00pm – Try Out Schedule Monday\nPeeWee: 7:00pm-8:15pm – 2018PeeWeeEvalGroups\nBantam: 8:15pm-9:00pm – 2018BantamEvaluations \nRemember fees must be paid before your player can be evaluated. \nEvaluations are held at Going Yard Training Center\, 1902 Alberta Avenue. More information about evaluations on March 22 and 24 to follow. \nPlease be at the GY 15 minutes prior to your scheduled evaluation time. When you arrive\, go upstairs to get your evaluation number.
URL:https://saskatooncardinals.ca/event/zone-tryouts-1/
LOCATION:Going Yard Training Center\, 1902 Alberta Ave\, Saskatoon\, SK\, S7K 1R9\, Canada
CATEGORIES:15U,Mosquito,Pee Wee
END:VEVENT
END:VCALENDAR